BEGIN:VCALENDAR
VERSION:2.0
PRODID:-//BPDBS - ECPv6.15.16.1//NONSGML v1.0//EN
CALSCALE:GREGORIAN
METHOD:PUBLISH
X-WR-CALNAME:BPDBS
X-ORIGINAL-URL:https://www.bpdbs.com
X-WR-CALDESC:Events for BPDBS
REFRESH-INTERVAL;VALUE=DURATION:PT1H
X-Robots-Tag:noindex
X-PUBLISHED-TTL:PT1H
BEGIN:VTIMEZONE
TZID:America/New_York
BEGIN:DAYLIGHT
TZOFFSETFROM:-0500
TZOFFSETTO:-0400
TZNAME:EDT
DTSTART:20230312T070000
END:DAYLIGHT
BEGIN:STANDARD
TZOFFSETFROM:-0400
TZOFFSETTO:-0500
TZNAME:EST
DTSTART:20231105T060000
END:STANDARD
BEGIN:DAYLIGHT
TZOFFSETFROM:-0500
TZOFFSETTO:-0400
TZNAME:EDT
DTSTART:20240310T070000
END:DAYLIGHT
BEGIN:STANDARD
TZOFFSETFROM:-0400
TZOFFSETTO:-0500
TZNAME:EST
DTSTART:20241103T060000
END:STANDARD
BEGIN:DAYLIGHT
TZOFFSETFROM:-0500
TZOFFSETTO:-0400
TZNAME:EDT
DTSTART:20250309T070000
END:DAYLIGHT
BEGIN:STANDARD
TZOFFSETFROM:-0400
TZOFFSETTO:-0500
TZNAME:EST
DTSTART:20251102T060000
END:STANDARD
END:VTIMEZONE
BEGIN:VEVENT
DTSTART;TZID=America/New_York:20240401T090000
DTEND;TZID=America/New_York:20240430T160000
DTSTAMP:20260420T082507
CREATED:20240403T165658Z
LAST-MODIFIED:20240403T165846Z
UID:1553-1711962000-1714492800@www.bpdbs.com
SUMMARY:Dental/Vision Open Enrollment 2024
DESCRIPTION:Dental/Vision Open Enrollment 2024
URL:https://www.bpdbs.com/event/dental-vision-open-enrollment-2024/
LOCATION:BPDBS Headquarters\, 434 Hyde Park Avenue\, Roslindale\, MA\, 02131\, United States
ORGANIZER;CN="BPDBS Leadership":MAILTO:dalya@bpdbs.net
END:VEVENT
END:VCALENDAR